BEGIN:VCALENDAR
METHOD:PUBLISH
VERSION:2.0
CALSCALE:GREGORIAN
BEGIN:VTIMEZONE
TZID:Europe/Paris
BEGIN:DAYLIGHT
TZOFFSETFROM:+0100
RRULE:FREQ=YEARLY;BYMONTH=3;BYDAY=-1SU
DTSTART:19810329T020000
TZNAME:UTC+2
TZOFFSETTO:+0200
END:DAYLIGHT
BEGIN:STANDARD
TZOFFSETFROM:+0200
RRULE:FREQ=YEARLY;BYMONTH=10;BYDAY=-1SU
DTSTART:19961027T030000
TZNAME:UTC+1
TZOFFSETTO:+0100
END:STANDARD
END:VTIMEZONE
BEGIN:VEVENT
UID:6201
DTSTART;TZID=Europe/Paris:20251120T140000
DTEND;TZID=Europe/Paris:20251120T160000
DTSTAMP;TZID=Europe/Paris:20260424T133443
LOCATION:Saint-Denis
SUMMARY:Smart City - Semaine de l’Industrie à Equinix – Explorez les coulisses des data centers !
DESCRIPTION:Le 20 novembre 2025, à l'occasion de la journée Smart City de la Semaine de l'Industrie, Equinix vous invite à une demi-journée immersive sur son campus de Saint-Denis, au cœur de l'un de ses plus grands data centers en France. Ce que vous allez vivre : ...
URL;VALUE=URI:https://www.ellesbougent.com/agenda/calendrier/smart-city-semaine-de-industrie-a-equinix-explorez-les-coulisses-des-data-centers-6201/
SEQUENCE:0
END:VEVENT
END:VCALENDAR
