BEGIN:VCALENDAR
METHOD:PUBLISH
VERSION:2.0
CALSCALE:GREGORIAN
BEGIN:VTIMEZONE
TZID:Europe/Paris
BEGIN:DAYLIGHT
TZOFFSETFROM:+0100
RRULE:FREQ=YEARLY;BYMONTH=3;BYDAY=-1SU
DTSTART:19810329T020000
TZNAME:UTC+2
TZOFFSETTO:+0200
END:DAYLIGHT
BEGIN:STANDARD
TZOFFSETFROM:+0200
RRULE:FREQ=YEARLY;BYMONTH=10;BYDAY=-1SU
DTSTART:19961027T030000
TZNAME:UTC+1
TZOFFSETTO:+0100
END:STANDARD
END:VTIMEZONE
BEGIN:VEVENT
UID:6017
DTSTART;TZID=Europe/Paris:20251120T140000
DTEND;TZID=Europe/Paris:20251120T170000
DTSTAMP;TZID=Europe/Paris:20260424T133442
LOCATION:Dijon
SUMMARY:Smart City & Métiers de la Construction au Féminin - Journée Découverte
DESCRIPTION:Dans le cadre de la journée Smart City organisée pendant la Semaine de l'Industrie, nous avons le plaisir de proposer aux collégiennes, lycéennes et étudiantes de l'enseignement supérieur une demi-journée de découverte autour des thématiques suivantes :...
URL;VALUE=URI:https://www.ellesbougent.com/agenda/calendrier/smart-city-metiers-de-la-construction-au-feminin-journee-decouverte-6017/
SEQUENCE:0
END:VEVENT
END:VCALENDAR
