BEGIN:VCALENDAR
METHOD:PUBLISH
VERSION:2.0
CALSCALE:GREGORIAN
BEGIN:VTIMEZONE
TZID:Europe/Paris
BEGIN:DAYLIGHT
TZOFFSETFROM:+0100
RRULE:FREQ=YEARLY;BYMONTH=3;BYDAY=-1SU
DTSTART:19810329T020000
TZNAME:UTC+2
TZOFFSETTO:+0200
END:DAYLIGHT
BEGIN:STANDARD
TZOFFSETFROM:+0200
RRULE:FREQ=YEARLY;BYMONTH=10;BYDAY=-1SU
DTSTART:19961027T030000
TZNAME:UTC+1
TZOFFSETTO:+0100
END:STANDARD
END:VTIMEZONE
BEGIN:VEVENT
UID:5994
DTSTART;TZID=Europe/Paris:20251120T093000
DTEND;TZID=Europe/Paris:20251120T120000
DTSTAMP;TZID=Europe/Paris:20260424T134052
LOCATION:Paris
SUMMARY:Smart city - Matériaux en Seine : Découvrez le rôle de la Seine dans la fabrication des matériaux de construction
DESCRIPTION:Venez découvrir l'un des plus grands sites de production de béton prêt à l'emploi de France, situé dans le 15ème arrondissement de Paris et approvisionné directement par la Seine. Vous serez accueillies par les marraines Cemex et par l'équipe du site autour...
URL;VALUE=URI:https://www.ellesbougent.com/agenda/calendrier/smart-city-materiaux-en-seine-decouvrez-le-role-de-la-seine-dans-la-fabrication-des-materiaux-de-construction-5994/
SEQUENCE:0
END:VEVENT
END:VCALENDAR
