BEGIN:VCALENDAR
METHOD:PUBLISH
VERSION:2.0
CALSCALE:GREGORIAN
BEGIN:VTIMEZONE
TZID:Europe/Paris
BEGIN:DAYLIGHT
TZOFFSETFROM:+0100
RRULE:FREQ=YEARLY;BYMONTH=3;BYDAY=-1SU
DTSTART:19810329T020000
TZNAME:UTC+2
TZOFFSETTO:+0200
END:DAYLIGHT
BEGIN:STANDARD
TZOFFSETFROM:+0200
RRULE:FREQ=YEARLY;BYMONTH=10;BYDAY=-1SU
DTSTART:19961027T030000
TZNAME:UTC+1
TZOFFSETTO:+0100
END:STANDARD
END:VTIMEZONE
BEGIN:VEVENT
UID:6009
DTSTART;TZID=Europe/Paris:20251120T090000
DTEND;TZID=Europe/Paris:20251120T120000
DTSTAMP;TZID=Europe/Paris:20260424T133414
LOCATION:villeurbanne
SUMMARY:Smart City - Les femmes de l'industrie du ferroviaire
DESCRIPTION:Bonjour, Nous souhaitons accueillir une vingtaine d'élèves de collège ou lycée sur notre site à Villeurbanne pour la semaine de l'industrie. Au programme :  Accueil avec jus de fruit et viennoiserie Présentation d'Alstom Témoignages de marraines Visite de...
URL;VALUE=URI:https://www.ellesbougent.com/agenda/calendrier/smart-city-les-femmes-de-industrie-du-ferroviaire-6009/
SEQUENCE:0
END:VEVENT
END:VCALENDAR
