BEGIN:VCALENDAR
METHOD:PUBLISH
VERSION:2.0
CALSCALE:GREGORIAN
BEGIN:VTIMEZONE
TZID:Europe/Paris
BEGIN:DAYLIGHT
TZOFFSETFROM:+0100
RRULE:FREQ=YEARLY;BYMONTH=3;BYDAY=-1SU
DTSTART:19810329T020000
TZNAME:UTC+2
TZOFFSETTO:+0200
END:DAYLIGHT
BEGIN:STANDARD
TZOFFSETFROM:+0200
RRULE:FREQ=YEARLY;BYMONTH=10;BYDAY=-1SU
DTSTART:19961027T030000
TZNAME:UTC+1
TZOFFSETTO:+0100
END:STANDARD
END:VTIMEZONE
BEGIN:VEVENT
UID:6087
DTSTART;TZID=Europe/Paris:20251127T133000
DTEND;TZID=Europe/Paris:20251127T163000
DTSTAMP;TZID=Europe/Paris:20260424T133442
LOCATION:Caen
SUMMARY:Smart City - Elles bougent sur le chantier du CHU de Caen !
DESCRIPTION:Venez échanger avec nos marraines mobilisées sur le chantier de l'hôpital de Caen ! Nous vous proposons de vous accueillir le jeudi 27 novembre après-midi sur notre chantier. Au programme :  Un temps d'inclusion pour faire connaissance Une présentation...
URL;VALUE=URI:https://www.ellesbougent.com/agenda/calendrier/smart-city-elles-bougent-sur-le-chantier-du-chu-de-caen-6087/
SEQUENCE:0
END:VEVENT
END:VCALENDAR
