BEGIN:VCALENDAR
METHOD:PUBLISH
VERSION:2.0
CALSCALE:GREGORIAN
BEGIN:VTIMEZONE
TZID:Europe/Paris
BEGIN:DAYLIGHT
TZOFFSETFROM:+0100
RRULE:FREQ=YEARLY;BYMONTH=3;BYDAY=-1SU
DTSTART:19810329T020000
TZNAME:UTC+2
TZOFFSETTO:+0200
END:DAYLIGHT
BEGIN:STANDARD
TZOFFSETFROM:+0200
RRULE:FREQ=YEARLY;BYMONTH=10;BYDAY=-1SU
DTSTART:19961027T030000
TZNAME:UTC+1
TZOFFSETTO:+0100
END:STANDARD
END:VTIMEZONE
BEGIN:VEVENT
UID:6027
DTSTART;TZID=Europe/Paris:20251120T090000
DTEND;TZID=Europe/Paris:20251120T133000
DTSTAMP;TZID=Europe/Paris:20260424T132115
LOCATION:TOULOUSE
SUMMARY:Smart City - Elles bougent en métro
DESCRIPTION:A l'occasion de la Semaine de l'Industrie et en particulier de la journée Smart City, Siemens Mobility souhaite inviter 16 collégiennes ou lycéennes à découvrir le centre de compétences mondial des métros automatiques, rencontrer les marraines Elles bougent et...
URL;VALUE=URI:https://www.ellesbougent.com/agenda/calendrier/smart-city-elles-bougent-en-metro-6027/
SEQUENCE:0
END:VEVENT
END:VCALENDAR
