BEGIN:VCALENDAR
METHOD:PUBLISH
VERSION:2.0
CALSCALE:GREGORIAN
BEGIN:VTIMEZONE
TZID:Europe/Paris
BEGIN:DAYLIGHT
TZOFFSETFROM:+0100
RRULE:FREQ=YEARLY;BYMONTH=3;BYDAY=-1SU
DTSTART:19810329T020000
TZNAME:UTC+2
TZOFFSETTO:+0200
END:DAYLIGHT
BEGIN:STANDARD
TZOFFSETFROM:+0200
RRULE:FREQ=YEARLY;BYMONTH=10;BYDAY=-1SU
DTSTART:19961027T030000
TZNAME:UTC+1
TZOFFSETTO:+0100
END:STANDARD
END:VTIMEZONE
BEGIN:VEVENT
UID:6082
DTSTART;TZID=Europe/Paris:20251120T090000
DTEND;TZID=Europe/Paris:20251120T130000
DTSTAMP;TZID=Europe/Paris:20260424T133719
LOCATION:Chatillon
SUMMARY:Smart City - Découvrez Siemens Smart Infrastructure\, des technologies qui transforment le quotidien pour tous
DESCRIPTION:Siemens Smart Infrastructure : un ancrage fort sur le territoire français avec +2000 collaborateurs, +40 agences locales et 1site de R&amp;D.  Un marché porté par des fondamentaux très solides Digitalisation et bâtiments intelligents Confort et sécurité...
URL;VALUE=URI:https://www.ellesbougent.com/agenda/calendrier/smart-city-decouvrez-siemens-smart-infrastructure-des-technologies-qui-transforment-le-quotidien-pour-tous-6082/
SEQUENCE:0
END:VEVENT
END:VCALENDAR
