BEGIN:VCALENDAR
METHOD:PUBLISH
VERSION:2.0
CALSCALE:GREGORIAN
BEGIN:VTIMEZONE
TZID:Europe/Paris
BEGIN:DAYLIGHT
TZOFFSETFROM:+0100
RRULE:FREQ=YEARLY;BYMONTH=3;BYDAY=-1SU
DTSTART:19810329T020000
TZNAME:UTC+2
TZOFFSETTO:+0200
END:DAYLIGHT
BEGIN:STANDARD
TZOFFSETFROM:+0200
RRULE:FREQ=YEARLY;BYMONTH=10;BYDAY=-1SU
DTSTART:19961027T030000
TZNAME:UTC+1
TZOFFSETTO:+0100
END:STANDARD
END:VTIMEZONE
BEGIN:VEVENT
UID:6381
DTSTART;TZID=Europe/Paris:20251120T140000
DTEND;TZID=Europe/Paris:20251120T160000
DTSTAMP;TZID=Europe/Paris:20260424T133908
LOCATION:Asnières-sur-Seine
SUMMARY:Smart City - Découvrez le chantier du collège Voltaire d'Asnières : Un projet innovant d'Eiffage Construction avec EC Equipements !
DESCRIPTION:Description : Passionnée par le monde de la construction et les bâtiments de demain ? Participez à une visite exceptionnelle du chantier du collège Voltaire à Asnières ! Eiffage Construction vous ouvre ses portes, avec sa filiale EC Equipements,...
URL;VALUE=URI:https://www.ellesbougent.com/agenda/calendrier/smart-city-decouvrez-le-chantier-du-college-voltaire-asnieres-un-projet-innovant-eiffage-construction-avec-ec-equipements-6381/
SEQUENCE:0
END:VEVENT
END:VCALENDAR
