BEGIN:VCALENDAR
METHOD:PUBLISH
VERSION:2.0
CALSCALE:GREGORIAN
BEGIN:VTIMEZONE
TZID:Europe/Paris
BEGIN:DAYLIGHT
TZOFFSETFROM:+0100
RRULE:FREQ=YEARLY;BYMONTH=3;BYDAY=-1SU
DTSTART:19810329T020000
TZNAME:UTC+2
TZOFFSETTO:+0200
END:DAYLIGHT
BEGIN:STANDARD
TZOFFSETFROM:+0200
RRULE:FREQ=YEARLY;BYMONTH=10;BYDAY=-1SU
DTSTART:19961027T030000
TZNAME:UTC+1
TZOFFSETTO:+0100
END:STANDARD
END:VTIMEZONE
BEGIN:VEVENT
UID:6368
DTSTART;TZID=Europe/Paris:20251120T081500
DTEND;TZID=Europe/Paris:20251120T120000
DTSTAMP;TZID=Europe/Paris:20260424T133414
LOCATION:Fresnay-sur-Sarthe
SUMMARY:Smart City - Découvrez la fabrication innovante de structures modulaires avec Eiffage Construction et HVA Concept !
DESCRIPTION:Description : Vous êtes curieuse de savoir comment sont fabriquées les structures modulaires de bâtiments ? Venez découvrir l'usine d'HVA Concept, filiale d'Eiffage Construction, lors de la Semaine de l'Industrie 2025. Une journée immersive vous attend...
URL;VALUE=URI:https://www.ellesbougent.com/agenda/calendrier/smart-city-decouvrez-la-fabrication-innovante-de-structures-modulaires-avec-eiffage-construction-et-hva-concept-6368/
SEQUENCE:0
END:VEVENT
END:VCALENDAR
