BEGIN:VCALENDAR
METHOD:PUBLISH
VERSION:2.0
CALSCALE:GREGORIAN
BEGIN:VTIMEZONE
TZID:Europe/Paris
BEGIN:DAYLIGHT
TZOFFSETFROM:+0100
RRULE:FREQ=YEARLY;BYMONTH=3;BYDAY=-1SU
DTSTART:19810329T020000
TZNAME:UTC+2
TZOFFSETTO:+0200
END:DAYLIGHT
BEGIN:STANDARD
TZOFFSETFROM:+0200
RRULE:FREQ=YEARLY;BYMONTH=10;BYDAY=-1SU
DTSTART:19961027T030000
TZNAME:UTC+1
TZOFFSETTO:+0100
END:STANDARD
END:VTIMEZONE
BEGIN:VEVENT
UID:5971
DTSTART;TZID=Europe/Paris:20251120T140000
DTEND;TZID=Europe/Paris:20251120T170000
DTSTAMP;TZID=Europe/Paris:20260424T133415
LOCATION:Solaize
SUMMARY:Smart City - Découverte du monde de la recherche à IFPEN-Lyon
DESCRIPTION:Nos marraines vous attendent le jeudi 20 novembre à 14h00 pour vous faire découvrir leur passion et vous permettre durant quelques heures de vous immerger dans le monde de la recherche  ! Programme de l'après-midi :  Accueil et présentation :...
URL;VALUE=URI:https://www.ellesbougent.com/agenda/calendrier/smart-city-decouverte-du-monde-de-la-recherche-a-ifpen-lyon-5971/
SEQUENCE:0
END:VEVENT
END:VCALENDAR
