BEGIN:VCALENDAR
METHOD:PUBLISH
VERSION:2.0
CALSCALE:GREGORIAN
BEGIN:VTIMEZONE
TZID:Europe/Paris
BEGIN:DAYLIGHT
TZOFFSETFROM:+0100
RRULE:FREQ=YEARLY;BYMONTH=3;BYDAY=-1SU
DTSTART:19810329T020000
TZNAME:UTC+2
TZOFFSETTO:+0200
END:DAYLIGHT
BEGIN:STANDARD
TZOFFSETFROM:+0200
RRULE:FREQ=YEARLY;BYMONTH=10;BYDAY=-1SU
DTSTART:19961027T030000
TZNAME:UTC+1
TZOFFSETTO:+0100
END:STANDARD
END:VTIMEZONE
BEGIN:VEVENT
UID:6363
DTSTART;TZID=Europe/Paris:20251120T130000
DTEND;TZID=Europe/Paris:20251120T170000
DTSTAMP;TZID=Europe/Paris:20260424T133618
LOCATION:Ambarès-et-Lagrave
SUMMARY:Smart City - Découverte des métiers de l'autoroute avec Vinci Autoroutes
DESCRIPTION:Gérer une autoroute, kesako ? Nous vous invitons à venir découvrir nos métiers de gestionnaires de l'autoroute au sein d'un de nos centre d'exploitation autoroutier, à Ambarès (33) au nord de Bordeaux. Au menu, nous vous présenterons notre entreprise et...
URL;VALUE=URI:https://www.ellesbougent.com/agenda/calendrier/smart-city-decouverte-des-metiers-de-autoroute-avec-vinci-autoroutes-6363/
SEQUENCE:0
END:VEVENT
END:VCALENDAR
