BEGIN:VCALENDAR
METHOD:PUBLISH
VERSION:2.0
CALSCALE:GREGORIAN
BEGIN:VTIMEZONE
TZID:Europe/Paris
BEGIN:DAYLIGHT
TZOFFSETFROM:+0100
RRULE:FREQ=YEARLY;BYMONTH=3;BYDAY=-1SU
DTSTART:19810329T020000
TZNAME:UTC+2
TZOFFSETTO:+0200
END:DAYLIGHT
BEGIN:STANDARD
TZOFFSETFROM:+0200
RRULE:FREQ=YEARLY;BYMONTH=10;BYDAY=-1SU
DTSTART:19961027T030000
TZNAME:UTC+1
TZOFFSETTO:+0100
END:STANDARD
END:VTIMEZONE
BEGIN:VEVENT
UID:6310
DTSTART;TZID=Europe/Paris:20251120T090000
DTEND;TZID=Europe/Paris:20251120T170000
DTSTAMP;TZID=Europe/Paris:20260424T134045
LOCATION:Pau
SUMMARY:Smart city - Au cœur d’un projet industriel avec Evolutec Ingénierie (bureau d’études) et Teréga (industriel énergétique)
DESCRIPTION:Dans le cadre de la Semaine de l'Industrie 2025, le bureau d'études Evolutec Ingénierie et l'opérateur d'infrastructures énergétiques Teréga, en partenariat avec l'association Elles Bougent, ont le plaisir de vous convier à une journée pour vous faire...
URL;VALUE=URI:https://www.ellesbougent.com/agenda/calendrier/smart-city-au-c-ur-un-projet-industriel-avec-evolutec-ingenierie-bureau-etudes-et-terega-industriel-energetique-6310/
SEQUENCE:0
END:VEVENT
END:VCALENDAR
