BEGIN:VCALENDAR
METHOD:PUBLISH
VERSION:2.0
CALSCALE:GREGORIAN
BEGIN:VTIMEZONE
TZID:Europe/Paris
BEGIN:DAYLIGHT
TZOFFSETFROM:+0100
RRULE:FREQ=YEARLY;BYMONTH=3;BYDAY=-1SU
DTSTART:19810329T020000
TZNAME:UTC+2
TZOFFSETTO:+0200
END:DAYLIGHT
BEGIN:STANDARD
TZOFFSETFROM:+0200
RRULE:FREQ=YEARLY;BYMONTH=10;BYDAY=-1SU
DTSTART:19961027T030000
TZNAME:UTC+1
TZOFFSETTO:+0100
END:STANDARD
END:VTIMEZONE
BEGIN:VEVENT
UID:6305
DTSTART;TZID=Europe/Paris:20251120T133000
DTEND;TZID=Europe/Paris:20251120T173000
DTSTAMP;TZID=Europe/Paris:20260424T133322
LOCATION:Nantes
SUMMARY:Smart City - Ateliers découverte des métiers de l'industrie bois
DESCRIPTION:Les métiers de l'ingénierie du bois couvrent un large spectre : gestion durable des forêts, transformation industrielle, construction, commerce ou encore recherche de nouveaux matériaux biosourcés. Ils allient science, technologie et créativité pour...
URL;VALUE=URI:https://www.ellesbougent.com/agenda/calendrier/smart-city-ateliers-decouverte-des-metiers-de-industrie-bois-6305/
SEQUENCE:0
END:VEVENT
END:VCALENDAR
