BEGIN:VCALENDAR
METHOD:PUBLISH
VERSION:2.0
CALSCALE:GREGORIAN
BEGIN:VTIMEZONE
TZID:Europe/Paris
BEGIN:DAYLIGHT
TZOFFSETFROM:+0100
RRULE:FREQ=YEARLY;BYMONTH=3;BYDAY=-1SU
DTSTART:19810329T020000
TZNAME:UTC+2
TZOFFSETTO:+0200
END:DAYLIGHT
BEGIN:STANDARD
TZOFFSETFROM:+0200
RRULE:FREQ=YEARLY;BYMONTH=10;BYDAY=-1SU
DTSTART:19961027T030000
TZNAME:UTC+1
TZOFFSETTO:+0100
END:STANDARD
END:VTIMEZONE
BEGIN:VEVENT
UID:6408
DTSTART;TZID=Europe/Paris:20251118T140000
DTEND;TZID=Europe/Paris:20251118T160000
DTSTAMP;TZID=Europe/Paris:20260424T131308
LOCATION:BAGNERES-DE-BIGORRE
SUMMARY:Semaine de l'Industrie - Visite du site
DESCRIPTION:1. Présentation en salle de l'entreprise &amp; des marraines. 2. Ateliers de travaux industriels 3. Visite des lignes de productions
URL;VALUE=URI:https://www.ellesbougent.com/agenda/calendrier/semaine-de-industrie-visite-du-site-6408/
SEQUENCE:0
END:VEVENT
END:VCALENDAR
