BEGIN:VCALENDAR
METHOD:PUBLISH
VERSION:2.0
CALSCALE:GREGORIAN
BEGIN:VTIMEZONE
TZID:Europe/Paris
BEGIN:DAYLIGHT
TZOFFSETFROM:+0100
RRULE:FREQ=YEARLY;BYMONTH=3;BYDAY=-1SU
DTSTART:19810329T020000
TZNAME:UTC+2
TZOFFSETTO:+0200
END:DAYLIGHT
BEGIN:STANDARD
TZOFFSETFROM:+0200
RRULE:FREQ=YEARLY;BYMONTH=10;BYDAY=-1SU
DTSTART:19961027T030000
TZNAME:UTC+1
TZOFFSETTO:+0100
END:STANDARD
END:VTIMEZONE
BEGIN:VEVENT
UID:6407
DTSTART;TZID=Europe/Paris:20251118T093000
DTEND;TZID=Europe/Paris:20251118T130000
DTSTAMP;TZID=Europe/Paris:20260424T132951
LOCATION:Notre-Dame-d'Oé
SUMMARY:Semaine de l’industrie : les jeunes au cœur de la recherche
DESCRIPTION:Lieu : Centre R&amp;D Nestlé, ToursPublic attendu : 30 jeunes (lycées généraux, professionnels, associations comme "Elles Bougent")Objectifs :  Susciter des vocations dans les métiers scientifiques et techniques Valoriser la diversité et...
URL;VALUE=URI:https://www.ellesbougent.com/agenda/calendrier/semaine-de-industrie-les-jeunes-au-c-ur-de-la-recherche-6407/
SEQUENCE:0
END:VEVENT
END:VCALENDAR
