BEGIN:VCALENDAR
METHOD:PUBLISH
VERSION:2.0
CALSCALE:GREGORIAN
BEGIN:VTIMEZONE
TZID:Europe/Paris
BEGIN:DAYLIGHT
TZOFFSETFROM:+0100
RRULE:FREQ=YEARLY;BYMONTH=3;BYDAY=-1SU
DTSTART:19810329T020000
TZNAME:UTC+2
TZOFFSETTO:+0200
END:DAYLIGHT
BEGIN:STANDARD
TZOFFSETFROM:+0200
RRULE:FREQ=YEARLY;BYMONTH=10;BYDAY=-1SU
DTSTART:19961027T030000
TZNAME:UTC+1
TZOFFSETTO:+0100
END:STANDARD
END:VTIMEZONE
BEGIN:VEVENT
UID:6454
DTSTART;TZID=Europe/Paris:20251118T100000
DTEND;TZID=Europe/Paris:20251118T113000
DTSTAMP;TZID=Europe/Paris:20260424T132044
LOCATION:Cambuston
SUMMARY:Semaine de l'industrie _ Ile  de La Réunion
DESCRIPTION:Programme de visite de la sucrerie de Bois-Rouge : - A 10h : un accueil en salle avec présentation de notre entreprise et échanges avec des figures féminines de la sucrerie. - 10h30- 11h30 : Découverte des secrets de la fabrication du sucre de La...
URL;VALUE=URI:https://www.ellesbougent.com/agenda/calendrier/semaine-de-industrie-ile-de-la-reunion-6454/
SEQUENCE:0
END:VEVENT
END:VCALENDAR
