BEGIN:VCALENDAR
METHOD:PUBLISH
VERSION:2.0
CALSCALE:GREGORIAN
BEGIN:VTIMEZONE
TZID:Europe/Paris
BEGIN:DAYLIGHT
TZOFFSETFROM:+0100
RRULE:FREQ=YEARLY;BYMONTH=3;BYDAY=-1SU
DTSTART:19810329T020000
TZNAME:UTC+2
TZOFFSETTO:+0200
END:DAYLIGHT
BEGIN:STANDARD
TZOFFSETFROM:+0200
RRULE:FREQ=YEARLY;BYMONTH=10;BYDAY=-1SU
DTSTART:19961027T030000
TZNAME:UTC+1
TZOFFSETTO:+0100
END:STANDARD
END:VTIMEZONE
BEGIN:VEVENT
UID:6012
DTSTART;TZID=Europe/Paris:20251120T140000
DTEND;TZID=Europe/Paris:20251120T173000
DTSTAMP;TZID=Europe/Paris:20260424T133730
LOCATION:COURMELLES
SUMMARY:Semaine de l'Industrie- Echanges avec nos marraines WICONA et visite des ateliers de production !
DESCRIPTION:Bonjour à toutes, WICONA, entreprise industrielle dans la production aluminium, vous ouvre ses portes le 20 novembre après-midi. Venez découvrir notre site de 180 personnes qui créé et conçoit des menuiseries aluminium innovantes pour construire nos villes de...
URL;VALUE=URI:https://www.ellesbougent.com/agenda/calendrier/semaine-de-industrie-echanges-avec-nos-marraines-wicona-et-visite-des-ateliers-de-production-6012/
SEQUENCE:0
END:VEVENT
END:VCALENDAR
