BEGIN:VCALENDAR
METHOD:PUBLISH
VERSION:2.0
CALSCALE:GREGORIAN
BEGIN:VTIMEZONE
TZID:Europe/Paris
BEGIN:DAYLIGHT
TZOFFSETFROM:+0100
RRULE:FREQ=YEARLY;BYMONTH=3;BYDAY=-1SU
DTSTART:19810329T020000
TZNAME:UTC+2
TZOFFSETTO:+0200
END:DAYLIGHT
BEGIN:STANDARD
TZOFFSETFROM:+0200
RRULE:FREQ=YEARLY;BYMONTH=10;BYDAY=-1SU
DTSTART:19961027T030000
TZNAME:UTC+1
TZOFFSETTO:+0100
END:STANDARD
END:VTIMEZONE
BEGIN:VEVENT
UID:6547
DTSTART;TZID=Europe/Paris:20260109T090000
DTEND;TZID=Europe/Paris:20260111T170000
DTSTAMP;TZID=Europe/Paris:20260425T182632
LOCATION:Parc des Exposition Bordeaux Lac - Hall 1
SUMMARY:Salon de l'Etudiant à Bordeaux 2026
DESCRIPTION:Le Salon de l'Etudiant de Bordeaux  se tiendra au Parc des Expositions de Bordeaux Lac - Hall 1, du 9 au 11 janvier 2026.   C'est une belle opportunité pour représenter l'association Elles Bougent et inspirer les jeunes en partageant votre parcours ! 👉 En...
URL;VALUE=URI:https://www.ellesbougent.com/agenda/calendrier/salon-de-etudiant-a-bordeaux-2026-6547/
SEQUENCE:0
END:VEVENT
END:VCALENDAR
