BEGIN:VCALENDAR
METHOD:PUBLISH
VERSION:2.0
CALSCALE:GREGORIAN
BEGIN:VTIMEZONE
TZID:Europe/Paris
BEGIN:DAYLIGHT
TZOFFSETFROM:+0100
RRULE:FREQ=YEARLY;BYMONTH=3;BYDAY=-1SU
DTSTART:19810329T020000
TZNAME:UTC+2
TZOFFSETTO:+0200
END:DAYLIGHT
BEGIN:STANDARD
TZOFFSETFROM:+0200
RRULE:FREQ=YEARLY;BYMONTH=10;BYDAY=-1SU
DTSTART:19961027T030000
TZNAME:UTC+1
TZOFFSETTO:+0100
END:STANDARD
END:VTIMEZONE
BEGIN:VEVENT
UID:6286
DTSTART;TZID=Europe/Paris:20251118T090000
DTEND;TZID=Europe/Paris:20251118T123000
DTSTAMP;TZID=Europe/Paris:20260424T133206
LOCATION:Merignac
SUMMARY:Safran : la recherche et l’innovation pour des avions plus verts
DESCRIPTION:Safran, avec ses 92 000 salariés, est un des leaders mondiaux de l'aéronautique. Sa mission : contribuer durablement à un monde plus sûr, où le transport aérien devient toujours plus respectueux de l'environnement, plus confortable et plus accessible....
URL;VALUE=URI:https://www.ellesbougent.com/agenda/calendrier/safran-la-recherche-et-innovation-pour-des-avions-plus-verts-6286/
SEQUENCE:0
END:VEVENT
END:VCALENDAR
