BEGIN:VCALENDAR
METHOD:PUBLISH
VERSION:2.0
CALSCALE:GREGORIAN
BEGIN:VTIMEZONE
TZID:Europe/Paris
BEGIN:DAYLIGHT
TZOFFSETFROM:+0100
RRULE:FREQ=YEARLY;BYMONTH=3;BYDAY=-1SU
DTSTART:19810329T020000
TZNAME:UTC+2
TZOFFSETTO:+0200
END:DAYLIGHT
BEGIN:STANDARD
TZOFFSETFROM:+0200
RRULE:FREQ=YEARLY;BYMONTH=10;BYDAY=-1SU
DTSTART:19961027T030000
TZNAME:UTC+1
TZOFFSETTO:+0100
END:STANDARD
END:VTIMEZONE
BEGIN:VEVENT
UID:6223
DTSTART;TZID=Europe/Paris:20251119T083000
DTEND;TZID=Europe/Paris:20251119T120000
DTSTAMP;TZID=Europe/Paris:20260424T131657
LOCATION:Le Coudray-Macouard (Saumur)
SUMMARY:RTE\, Pour qu’à Chaque seconde le courant passe.
DESCRIPTION:Tu es curieuse de découvrir comment l'électricité circule sans interruption 24h/24 et 7j/7. Gestionnaire du réseau de transport d'électricité français, RTE maintient et développe le réseau Haute et Très Haute Tension (de 63 000 à 400 000 volts). La...
URL;VALUE=URI:https://www.ellesbougent.com/agenda/calendrier/rte-pour-qu-a-chaque-seconde-le-courant-passe-6223/
SEQUENCE:0
END:VEVENT
END:VCALENDAR
