BEGIN:VCALENDAR
METHOD:PUBLISH
VERSION:2.0
CALSCALE:GREGORIAN
BEGIN:VTIMEZONE
TZID:Europe/Paris
BEGIN:DAYLIGHT
TZOFFSETFROM:+0100
RRULE:FREQ=YEARLY;BYMONTH=3;BYDAY=-1SU
DTSTART:19810329T020000
TZNAME:UTC+2
TZOFFSETTO:+0200
END:DAYLIGHT
BEGIN:STANDARD
TZOFFSETFROM:+0200
RRULE:FREQ=YEARLY;BYMONTH=10;BYDAY=-1SU
DTSTART:19961027T030000
TZNAME:UTC+1
TZOFFSETTO:+0100
END:STANDARD
END:VTIMEZONE
BEGIN:VEVENT
UID:4274
DTSTART;TZID=Europe/Paris:20240305T133000
DTEND;TZID=Europe/Paris:20240305T163000
DTSTAMP;TZID=Europe/Paris:20260423T201650
LOCATION:COURBEVOIE LA DEFENSE
SUMMARY:Rencontrer les femmes de la TECH chez ENGIE et visite de nos locaux
DESCRIPTION:Dans le cadre de l'évènement EQUITY WEEK, nous vous convions le mardi 5 mars 2024 de 13H30 à 16H30, au siège d'ENGIE à la Défense à une recontre avec des femmes d'ENGIE qui ont réussi et qui s'épanouissent dans les métiers de la TECH. Autour d'un goûter...
URL;VALUE=URI:https://www.ellesbougent.com/agenda/calendrier/rencontrer-les-femmes-de-la-tech-chez-engie-et-visite-de-nos-locaux-4274/
SEQUENCE:0
END:VEVENT
END:VCALENDAR
