BEGIN:VCALENDAR
METHOD:PUBLISH
VERSION:2.0
CALSCALE:GREGORIAN
BEGIN:VTIMEZONE
TZID:Europe/Paris
BEGIN:DAYLIGHT
TZOFFSETFROM:+0100
RRULE:FREQ=YEARLY;BYMONTH=3;BYDAY=-1SU
DTSTART:19810329T020000
TZNAME:UTC+2
TZOFFSETTO:+0200
END:DAYLIGHT
BEGIN:STANDARD
TZOFFSETFROM:+0200
RRULE:FREQ=YEARLY;BYMONTH=10;BYDAY=-1SU
DTSTART:19961027T030000
TZNAME:UTC+1
TZOFFSETTO:+0100
END:STANDARD
END:VTIMEZONE
BEGIN:VEVENT
UID:1489
DTSTART;TZID=Europe/Paris:20171214T140000
DTEND;TZID=Europe/Paris:20171214T160000
DTSTAMP;TZID=Europe/Paris:20260420T103357
LOCATION:Collège Descartes\, Val d’Oise (95)
SUMMARY:Recherche marraines pour intervention à Soisy-sous-Montmorency
DESCRIPTION:Nous recherchons des marraines Elles Bougent pour intervenir auprès des collégiennes de 4e et 3e, le jeudi 14 décembre au Collège Descartes, à Soisy-sous-Montmorency, dans le Val d'Oise (95).
URL;VALUE=URI:https://www.ellesbougent.com/agenda/calendrier/recherche-marraines-pour-intervention-a-soisy-sous-montmorency-1489/
SEQUENCE:0
END:VEVENT
END:VCALENDAR
