BEGIN:VCALENDAR
METHOD:PUBLISH
VERSION:2.0
CALSCALE:GREGORIAN
BEGIN:VTIMEZONE
TZID:Europe/Paris
BEGIN:DAYLIGHT
TZOFFSETFROM:+0100
RRULE:FREQ=YEARLY;BYMONTH=3;BYDAY=-1SU
DTSTART:19810329T020000
TZNAME:UTC+2
TZOFFSETTO:+0200
END:DAYLIGHT
BEGIN:STANDARD
TZOFFSETFROM:+0200
RRULE:FREQ=YEARLY;BYMONTH=10;BYDAY=-1SU
DTSTART:19961027T030000
TZNAME:UTC+1
TZOFFSETTO:+0100
END:STANDARD
END:VTIMEZONE
BEGIN:VEVENT
UID:7416
DTSTART;TZID=Europe/Paris:20260330T103000
DTEND;TZID=Europe/Paris:20260330T123000
DTSTAMP;TZID=Europe/Paris:20260420T103640
LOCATION:Collège d'Aspe
SUMMARY:Printemps de l’Orientation Elles bougent au collège d'Aspe
DESCRIPTION:Bonjour, Nous souhaiterions participer au Printemps de l'Orientation le lundi 30 mars 2026, de 10h30 à 12h30, pour nos élèves de 4ème, dans le cadre de la découverte des métiers et de la promotion de l'égalité filles-garçons. Public : 10 filles Faute de...
URL;VALUE=URI:https://www.ellesbougent.com/agenda/calendrier/printemps-de-orientation-elles-bougent-au-college-aspe-7416/
SEQUENCE:0
END:VEVENT
END:VCALENDAR
