BEGIN:VCALENDAR
METHOD:PUBLISH
VERSION:2.0
CALSCALE:GREGORIAN
BEGIN:VTIMEZONE
TZID:Europe/Paris
BEGIN:DAYLIGHT
TZOFFSETFROM:+0100
RRULE:FREQ=YEARLY;BYMONTH=3;BYDAY=-1SU
DTSTART:19810329T020000
TZNAME:UTC+2
TZOFFSETTO:+0200
END:DAYLIGHT
BEGIN:STANDARD
TZOFFSETFROM:+0200
RRULE:FREQ=YEARLY;BYMONTH=10;BYDAY=-1SU
DTSTART:19961027T030000
TZNAME:UTC+1
TZOFFSETTO:+0100
END:STANDARD
END:VTIMEZONE
BEGIN:VEVENT
UID:6090
DTSTART;TZID=Europe/Paris:20251121T090000
DTEND;TZID=Europe/Paris:20251121T120000
DTSTAMP;TZID=Europe/Paris:20260424T133156
LOCATION:Léognan
SUMMARY:Présentation d'une entreprise VINCI Energies / visite / animation
DESCRIPTION:Plongez au cœur de l'innovation industrielle avec ES LASER, entreprise de VINCI Energies ! À l'occasion de la Semaine de l'Industrie, nous invitons vos élèves à découvrir les coulisses d'ES LASER qui concoit et fabrique des machines laser et des lasers...
URL;VALUE=URI:https://www.ellesbougent.com/agenda/calendrier/presentation-une-entreprise-vinci-energies-visite-animation-6090/
SEQUENCE:0
END:VEVENT
END:VCALENDAR
