BEGIN:VCALENDAR
METHOD:PUBLISH
VERSION:2.0
CALSCALE:GREGORIAN
BEGIN:VTIMEZONE
TZID:Europe/Paris
BEGIN:DAYLIGHT
TZOFFSETFROM:+0100
RRULE:FREQ=YEARLY;BYMONTH=3;BYDAY=-1SU
DTSTART:19810329T020000
TZNAME:UTC+2
TZOFFSETTO:+0200
END:DAYLIGHT
BEGIN:STANDARD
TZOFFSETFROM:+0200
RRULE:FREQ=YEARLY;BYMONTH=10;BYDAY=-1SU
DTSTART:19961027T030000
TZNAME:UTC+1
TZOFFSETTO:+0100
END:STANDARD
END:VTIMEZONE
BEGIN:VEVENT
UID:2954
DTSTART;TZID=Europe/Paris:20221122T090000
DTEND;TZID=Europe/Paris:20221122T120000
DTSTAMP;TZID=Europe/Paris:20260425T171443
LOCATION:Toulouse
SUMMARY:Présentation de nos métiers et visite d'une chaufferie biomasse
DESCRIPTION:présentation de l'entreprise et présentation de nos métiers + visite d'une chaufferie biomasse sur le site de notre client Airbus
URL;VALUE=URI:https://www.ellesbougent.com/agenda/calendrier/presentation-de-nos-metiers-et-visite-une-chaufferie-biomasse-2954/
SEQUENCE:0
END:VEVENT
END:VCALENDAR
