BEGIN:VCALENDAR
METHOD:PUBLISH
VERSION:2.0
CALSCALE:GREGORIAN
BEGIN:VTIMEZONE
TZID:Europe/Paris
BEGIN:DAYLIGHT
TZOFFSETFROM:+0100
RRULE:FREQ=YEARLY;BYMONTH=3;BYDAY=-1SU
DTSTART:19810329T020000
TZNAME:UTC+2
TZOFFSETTO:+0200
END:DAYLIGHT
BEGIN:STANDARD
TZOFFSETFROM:+0200
RRULE:FREQ=YEARLY;BYMONTH=10;BYDAY=-1SU
DTSTART:19961027T030000
TZNAME:UTC+1
TZOFFSETTO:+0100
END:STANDARD
END:VTIMEZONE
BEGIN:VEVENT
UID:5984
DTSTART;TZID=Europe/Paris:20251118T093000
DTEND;TZID=Europe/Paris:20251118T153000
DTSTAMP;TZID=Europe/Paris:20260424T133322
LOCATION:MARLY \, France
SUMMARY:PPG MARLY - Centre de R&D - Visite des labos et rencontre avec nos marraines
DESCRIPTION:PPG, groupe américain de 52 000 collaborateurs, est un leader mondial dans la production de peintures. Le site de Marly est un centre de Recherche et Développement réunissant environ 300 personnes travaillant pour divers secteurs : industrie, automobile,...
URL;VALUE=URI:https://www.ellesbougent.com/agenda/calendrier/ppg-marly-centre-de-r-d-visite-des-labos-et-rencontre-avec-nos-marraines-5984/
SEQUENCE:0
END:VEVENT
END:VCALENDAR
