BEGIN:VCALENDAR
METHOD:PUBLISH
VERSION:2.0
CALSCALE:GREGORIAN
BEGIN:VTIMEZONE
TZID:Europe/Paris
BEGIN:DAYLIGHT
TZOFFSETFROM:+0100
RRULE:FREQ=YEARLY;BYMONTH=3;BYDAY=-1SU
DTSTART:19810329T020000
TZNAME:UTC+2
TZOFFSETTO:+0200
END:DAYLIGHT
BEGIN:STANDARD
TZOFFSETFROM:+0200
RRULE:FREQ=YEARLY;BYMONTH=10;BYDAY=-1SU
DTSTART:19961027T030000
TZNAME:UTC+1
TZOFFSETTO:+0100
END:STANDARD
END:VTIMEZONE
BEGIN:VEVENT
UID:6428
DTSTART;TZID=Europe/Paris:20251120T090000
DTEND;TZID=Europe/Paris:20251120T180000
DTSTAMP;TZID=Europe/Paris:20260424T131158
LOCATION:Saint-Rémy-les-chevreuse
SUMMARY:Portes ouvertes
DESCRIPTION:Portes ouvertes et découvertes des métiers ingénieurs de GTT 9h30-10h Accueil petit dej viennoiseries 10h11h Visite du laboratoire expérimental mouvements liquides et maquette grandeur nature 11h12h Immersion dans une cuve de méthanier grâce à des lunettes de...
URL;VALUE=URI:https://www.ellesbougent.com/agenda/calendrier/portes-ouvertes-6428/
SEQUENCE:0
END:VEVENT
END:VCALENDAR
