BEGIN:VCALENDAR
METHOD:PUBLISH
VERSION:2.0
CALSCALE:GREGORIAN
BEGIN:VTIMEZONE
TZID:Europe/Paris
BEGIN:DAYLIGHT
TZOFFSETFROM:+0100
RRULE:FREQ=YEARLY;BYMONTH=3;BYDAY=-1SU
DTSTART:19810329T020000
TZNAME:UTC+2
TZOFFSETTO:+0200
END:DAYLIGHT
BEGIN:STANDARD
TZOFFSETFROM:+0200
RRULE:FREQ=YEARLY;BYMONTH=10;BYDAY=-1SU
DTSTART:19961027T030000
TZNAME:UTC+1
TZOFFSETTO:+0100
END:STANDARD
END:VTIMEZONE
BEGIN:VEVENT
UID:4197
DTSTART;TZID=Europe/Paris:20240306T124500
DTEND;TZID=Europe/Paris:20240306T143000
DTSTAMP;TZID=Europe/Paris:20260423T201312
LOCATION:Gondomar
SUMMARY:PO CES VIGO (Spain) - STEM degrees and how to access the labor market
DESCRIPTION:We are working with the Adecco company to prepare the visit together. The visit will take place at the high school. Plastic Omnium female staff will present their experience in technical university degrees and their professional experience at Plastic Omnium. Our...
URL;VALUE=URI:https://www.ellesbougent.com/agenda/calendrier/po-ces-vigo-spain-stem-degrees-and-how-to-access-the-labor-market-4197/
SEQUENCE:0
END:VEVENT
END:VCALENDAR
