BEGIN:VCALENDAR
METHOD:PUBLISH
VERSION:2.0
CALSCALE:GREGORIAN
BEGIN:VTIMEZONE
TZID:Europe/Paris
BEGIN:DAYLIGHT
TZOFFSETFROM:+0100
RRULE:FREQ=YEARLY;BYMONTH=3;BYDAY=-1SU
DTSTART:19810329T020000
TZNAME:UTC+2
TZOFFSETTO:+0200
END:DAYLIGHT
BEGIN:STANDARD
TZOFFSETFROM:+0200
RRULE:FREQ=YEARLY;BYMONTH=10;BYDAY=-1SU
DTSTART:19961027T030000
TZNAME:UTC+1
TZOFFSETTO:+0100
END:STANDARD
END:VTIMEZONE
BEGIN:VEVENT
UID:4200
DTSTART;TZID=Europe/Paris:20240306T084000
DTEND;TZID=Europe/Paris:20240306T104000
DTSTAMP;TZID=Europe/Paris:20260423T201841
LOCATION:Arévalo (Ávila)
SUMMARY:PO CES ARÉVALO (Spain) - STEM degrees and how to access the labor market
DESCRIPTION:We will vist to the high school and our female staff will talk about their experience technical university degrees and their professional experience at Plastic Omnium. Our intention is to encourage girls to do STEM degrees and make visible the role of women in the...
URL;VALUE=URI:https://www.ellesbougent.com/agenda/calendrier/po-ces-arevalo-spain-stem-degrees-and-how-to-access-the-labor-market-4200/
SEQUENCE:0
END:VEVENT
END:VCALENDAR
