BEGIN:VCALENDAR
METHOD:PUBLISH
VERSION:2.0
CALSCALE:GREGORIAN
BEGIN:VTIMEZONE
TZID:Europe/Paris
BEGIN:DAYLIGHT
TZOFFSETFROM:+0100
RRULE:FREQ=YEARLY;BYMONTH=3;BYDAY=-1SU
DTSTART:19810329T020000
TZNAME:UTC+2
TZOFFSETTO:+0200
END:DAYLIGHT
BEGIN:STANDARD
TZOFFSETFROM:+0200
RRULE:FREQ=YEARLY;BYMONTH=10;BYDAY=-1SU
DTSTART:19961027T030000
TZNAME:UTC+1
TZOFFSETTO:+0100
END:STANDARD
END:VTIMEZONE
BEGIN:VEVENT
UID:6396
DTSTART;TZID=Europe/Paris:20251119T083000
DTEND;TZID=Europe/Paris:20251119T130000
DTSTAMP;TZID=Europe/Paris:20260424T133559
LOCATION:EVRY
SUMMARY:✨ Plongez dans l’univers de l’aéronautique avec Safran Aircraft Engines !
DESCRIPTION:Au programme :  Bienvenue chez Safran !Une présentation en salle pour découvrir le groupe Safran, les activités du site d'Évry-Corbeil et les métiers passionnants de l'industrie aéronautique. Visite d'atelierPlongez au cœur de la production et...
URL;VALUE=URI:https://www.ellesbougent.com/agenda/calendrier/plongez-dans-univers-de-aeronautique-avec-safran-aircraft-engines-6396/
SEQUENCE:0
END:VEVENT
END:VCALENDAR
