BEGIN:VCALENDAR
METHOD:PUBLISH
VERSION:2.0
CALSCALE:GREGORIAN
BEGIN:VTIMEZONE
TZID:Europe/Paris
BEGIN:DAYLIGHT
TZOFFSETFROM:+0100
RRULE:FREQ=YEARLY;BYMONTH=3;BYDAY=-1SU
DTSTART:19810329T020000
TZNAME:UTC+2
TZOFFSETTO:+0200
END:DAYLIGHT
BEGIN:STANDARD
TZOFFSETFROM:+0200
RRULE:FREQ=YEARLY;BYMONTH=10;BYDAY=-1SU
DTSTART:19961027T030000
TZNAME:UTC+1
TZOFFSETTO:+0100
END:STANDARD
END:VTIMEZONE
BEGIN:VEVENT
UID:6417
DTSTART;TZID=Europe/Paris:20251127T090000
DTEND;TZID=Europe/Paris:20251127T170000
DTSTAMP;TZID=Europe/Paris:20260424T134035
LOCATION:Moissy Cramayel
SUMMARY:🎯 Plongez au cœur de l’ingénierie aéronautique avec Safran Aircraft Engines !
DESCRIPTION:Nous avons le plaisir d'inviter vos élèves à une journée exceptionnelle sur notre site de Villaroche (Seine-et-Marne). 🔍 Au programme :  Venez participez l'événement « Les femmes dans les métiers de l'ingénierie » qui vous présentera l'univers...
URL;VALUE=URI:https://www.ellesbougent.com/agenda/calendrier/plongez-au-c-ur-de-ingenierie-aeronautique-avec-safran-aircraft-engines-6417/
SEQUENCE:0
END:VEVENT
END:VCALENDAR
