BEGIN:VCALENDAR
METHOD:PUBLISH
VERSION:2.0
CALSCALE:GREGORIAN
BEGIN:VTIMEZONE
TZID:Europe/Paris
BEGIN:DAYLIGHT
TZOFFSETFROM:+0100
RRULE:FREQ=YEARLY;BYMONTH=3;BYDAY=-1SU
DTSTART:19810329T020000
TZNAME:UTC+2
TZOFFSETTO:+0200
END:DAYLIGHT
BEGIN:STANDARD
TZOFFSETFROM:+0200
RRULE:FREQ=YEARLY;BYMONTH=10;BYDAY=-1SU
DTSTART:19961027T030000
TZNAME:UTC+1
TZOFFSETTO:+0100
END:STANDARD
END:VTIMEZONE
BEGIN:VEVENT
UID:6502
DTSTART;TZID=Europe/Paris:20251118T093000
DTEND;TZID=Europe/Paris:20251118T113000
DTSTAMP;TZID=Europe/Paris:20260424T133559
LOCATION:Méry-sur-Oise
SUMMARY:Plongée à la découverte du traitement et de la distribution de l'eau potable à travers la visite de notre usine
DESCRIPTION:Déroulé :A partir de 9h30 &gt; accueil et présentation générale du Syndicat des Eaux d'Ile de France (SEDIF) et de l'usine : historique, rôle dans l'approvisionnement en eau potable de la région.De 10h00 à 11h30 &gt; visite guidée technique, étape...
URL;VALUE=URI:https://www.ellesbougent.com/agenda/calendrier/plongee-a-la-decouverte-du-traitement-et-de-la-distribution-de-eau-potable-a-travers-la-visite-de-notre-usine-6502/
SEQUENCE:0
END:VEVENT
END:VCALENDAR
