BEGIN:VCALENDAR
METHOD:PUBLISH
VERSION:2.0
CALSCALE:GREGORIAN
BEGIN:VTIMEZONE
TZID:Europe/Paris
BEGIN:DAYLIGHT
TZOFFSETFROM:+0100
RRULE:FREQ=YEARLY;BYMONTH=3;BYDAY=-1SU
DTSTART:19810329T020000
TZNAME:UTC+2
TZOFFSETTO:+0200
END:DAYLIGHT
BEGIN:STANDARD
TZOFFSETFROM:+0200
RRULE:FREQ=YEARLY;BYMONTH=10;BYDAY=-1SU
DTSTART:19961027T030000
TZNAME:UTC+1
TZOFFSETTO:+0100
END:STANDARD
END:VTIMEZONE
BEGIN:VEVENT
UID:6233
DTSTART;TZID=Europe/Paris:20251120T140000
DTEND;TZID=Europe/Paris:20251120T163000
DTSTAMP;TZID=Europe/Paris:20260424T133751
LOCATION:LE PLESSIS ROBINSON
SUMMARY:Partage\, inspiration et innovation : découvre la Lutte Anti-Drone et les Systèmes de Communications Vocaux
DESCRIPTION:Viens découvrir deux univers technologiques passionnants chez CS !Les systèmes de communications vocaux assurent la sécurité et la coordination dans des contextes critiques comme le trafic aérien ou les opérations de défense.La lutte anti-drone, quant à...
URL;VALUE=URI:https://www.ellesbougent.com/agenda/calendrier/partage-inspiration-et-innovation-decouvre-la-lutte-anti-drone-et-les-systemes-de-communications-vocaux-6233/
SEQUENCE:0
END:VEVENT
END:VCALENDAR
