BEGIN:VCALENDAR
METHOD:PUBLISH
VERSION:2.0
CALSCALE:GREGORIAN
BEGIN:VTIMEZONE
TZID:Europe/Paris
BEGIN:DAYLIGHT
TZOFFSETFROM:+0100
RRULE:FREQ=YEARLY;BYMONTH=3;BYDAY=-1SU
DTSTART:19810329T020000
TZNAME:UTC+2
TZOFFSETTO:+0200
END:DAYLIGHT
BEGIN:STANDARD
TZOFFSETFROM:+0200
RRULE:FREQ=YEARLY;BYMONTH=10;BYDAY=-1SU
DTSTART:19961027T030000
TZNAME:UTC+1
TZOFFSETTO:+0100
END:STANDARD
END:VTIMEZONE
BEGIN:VEVENT
UID:6117
DTSTART;TZID=Europe/Paris:20251120T090000
DTEND;TZID=Europe/Paris:20251120T110000
DTSTAMP;TZID=Europe/Paris:20260424T133729
LOCATION:La Chapelle Saint Luc
SUMMARY:Michelin Troyes ouvre ses portes pour la Semaine de l'Industrie 2025 !
DESCRIPTION:Le site MICHELIN de La Chapelle Saint Luc vous ouvre ses portes le jeudi 20 novembre 2025 lors de la Semaine de l'Industrie Chères collégiennes, nous sommes heureux de vous accueillir ! Dans une ambiance que nous souhaitons conviviale et bienveillante, voici le...
URL;VALUE=URI:https://www.ellesbougent.com/agenda/calendrier/michelin-troyes-ouvre-ses-portes-pour-la-semaine-de-industrie-2025-6117/
SEQUENCE:0
END:VEVENT
END:VCALENDAR
