BEGIN:VCALENDAR
METHOD:PUBLISH
VERSION:2.0
CALSCALE:GREGORIAN
BEGIN:VTIMEZONE
TZID:Europe/Paris
BEGIN:DAYLIGHT
TZOFFSETFROM:+0100
RRULE:FREQ=YEARLY;BYMONTH=3;BYDAY=-1SU
DTSTART:19810329T020000
TZNAME:UTC+2
TZOFFSETTO:+0200
END:DAYLIGHT
BEGIN:STANDARD
TZOFFSETFROM:+0200
RRULE:FREQ=YEARLY;BYMONTH=10;BYDAY=-1SU
DTSTART:19961027T030000
TZNAME:UTC+1
TZOFFSETTO:+0100
END:STANDARD
END:VTIMEZONE
BEGIN:VEVENT
UID:6322
DTSTART;TZID=Europe/Paris:20251117T093000
DTEND;TZID=Europe/Paris:20251117T123000
DTSTAMP;TZID=Europe/Paris:20260424T134159
LOCATION:Marseille
SUMMARY:Matinée speed-discovering avec des femmes Ingénieures en poste ET Elèves ingénieures - Evènement co-organisé par Secure / VINCI Energies et l'école d'ingénieurs ISEN  / Campus de Marseille
DESCRIPTION:Une matinée pour permettre aux jeunes filles participantes de rencontrer des Marraines Ingénieures en poste, mais également en formation en tant qu'Elèves Ingénieures, au travers d'un évènement co-organisé par Secure / VINCI Energies, qui accompagne les...
URL;VALUE=URI:https://www.ellesbougent.com/agenda/calendrier/matinee-speed-discovering-avec-des-femmes-ingenieures-en-poste-et-eleves-ingenieures-evenement-co-organise-par-secure-vinci-energies-et-ecole-ingenieurs-isen-campus-de-marseille-6322/
SEQUENCE:0
END:VEVENT
END:VCALENDAR
