BEGIN:VCALENDAR
METHOD:PUBLISH
VERSION:2.0
CALSCALE:GREGORIAN
BEGIN:VTIMEZONE
TZID:Europe/Paris
BEGIN:DAYLIGHT
TZOFFSETFROM:+0100
RRULE:FREQ=YEARLY;BYMONTH=3;BYDAY=-1SU
DTSTART:19810329T020000
TZNAME:UTC+2
TZOFFSETTO:+0200
END:DAYLIGHT
BEGIN:STANDARD
TZOFFSETFROM:+0200
RRULE:FREQ=YEARLY;BYMONTH=10;BYDAY=-1SU
DTSTART:19961027T030000
TZNAME:UTC+1
TZOFFSETTO:+0100
END:STANDARD
END:VTIMEZONE
BEGIN:VEVENT
UID:6038
DTSTART;TZID=Europe/Paris:20251128T090000
DTEND;TZID=Europe/Paris:20251128T160000
DTSTAMP;TZID=Europe/Paris:20260424T133559
LOCATION:Roissy-En-France
SUMMARY:Maintenance industrielle\, pilotage et data : bienvenue à bord d'Air France !
DESCRIPTION:Air France, c'est plus de 260 avions et 130 000 passagers transportés par jour, dans le monde entier, au plus fort de l'été. Pour assurer cette activité dans les meilleures conditions, quelques 44 000 salariés sont mobilisés au service de nos clients. Au-delà...
URL;VALUE=URI:https://www.ellesbougent.com/agenda/calendrier/maintenance-industrielle-pilotage-et-data-bienvenue-a-bord-air-france-6038/
SEQUENCE:0
END:VEVENT
END:VCALENDAR
