BEGIN:VCALENDAR
METHOD:PUBLISH
VERSION:2.0
CALSCALE:GREGORIAN
BEGIN:VTIMEZONE
TZID:Europe/Paris
BEGIN:DAYLIGHT
TZOFFSETFROM:+0100
RRULE:FREQ=YEARLY;BYMONTH=3;BYDAY=-1SU
DTSTART:19810329T020000
TZNAME:UTC+2
TZOFFSETTO:+0200
END:DAYLIGHT
BEGIN:STANDARD
TZOFFSETFROM:+0200
RRULE:FREQ=YEARLY;BYMONTH=10;BYDAY=-1SU
DTSTART:19961027T030000
TZNAME:UTC+1
TZOFFSETTO:+0100
END:STANDARD
END:VTIMEZONE
BEGIN:VEVENT
UID:5782
DTSTART;TZID=Europe/Paris:20251009T090000
DTEND;TZID=Europe/Paris:20251009T133000
DTSTAMP;TZID=Europe/Paris:20260424T180556
LOCATION:Toulon
SUMMARY:Lycéennes rencontrez les marraines de Naval Group et de la Marine Nationale
DESCRIPTION:Dans le cadre des Elles de l'océan et de l'année de la mer, La Marine Nationale et Naval Group s'associent pour faire découvrir aux Lycéennes la grande diversité des métiers liés à l'industrie navale de défense. Au programme de cette matinée - visite d'un...
URL;VALUE=URI:https://www.ellesbougent.com/agenda/calendrier/lyceennes-rencontrez-les-marraines-de-naval-group-et-de-la-marine-nationale-5782/
SEQUENCE:0
END:VEVENT
END:VCALENDAR
