BEGIN:VCALENDAR
METHOD:PUBLISH
VERSION:2.0
CALSCALE:GREGORIAN
BEGIN:VTIMEZONE
TZID:Europe/Paris
BEGIN:DAYLIGHT
TZOFFSETFROM:+0100
RRULE:FREQ=YEARLY;BYMONTH=3;BYDAY=-1SU
DTSTART:19810329T020000
TZNAME:UTC+2
TZOFFSETTO:+0200
END:DAYLIGHT
BEGIN:STANDARD
TZOFFSETFROM:+0200
RRULE:FREQ=YEARLY;BYMONTH=10;BYDAY=-1SU
DTSTART:19961027T030000
TZNAME:UTC+1
TZOFFSETTO:+0100
END:STANDARD
END:VTIMEZONE
BEGIN:VEVENT
UID:6088
DTSTART;TZID=Europe/Paris:20251117T140000
DTEND;TZID=Europe/Paris:20251117T163000
DTSTAMP;TZID=Europe/Paris:20260424T133442
LOCATION:TOULON CEDEX 9
SUMMARY:Lutte anti-drones & gestion du trafic aérien : viens découvrir ces domaines passionnants !
DESCRIPTION:Avec Elles Bougent, CS invite les jeunes talents à plonger au cœur de deux univers captivants : la lutte anti-drone, où nos experts conçoivent des systèmes de détection et de neutralisation pour protéger l'espace aérien, et l'Air Traffic Management, qui...
URL;VALUE=URI:https://www.ellesbougent.com/agenda/calendrier/lutte-anti-drones-gestion-du-trafic-aerien-viens-decouvrir-ces-domaines-passionnants-6088/
SEQUENCE:0
END:VEVENT
END:VCALENDAR
