BEGIN:VCALENDAR
METHOD:PUBLISH
VERSION:2.0
CALSCALE:GREGORIAN
BEGIN:VTIMEZONE
TZID:Europe/Paris
BEGIN:DAYLIGHT
TZOFFSETFROM:+0100
RRULE:FREQ=YEARLY;BYMONTH=3;BYDAY=-1SU
DTSTART:19810329T020000
TZNAME:UTC+2
TZOFFSETTO:+0200
END:DAYLIGHT
BEGIN:STANDARD
TZOFFSETFROM:+0200
RRULE:FREQ=YEARLY;BYMONTH=10;BYDAY=-1SU
DTSTART:19961027T030000
TZNAME:UTC+1
TZOFFSETTO:+0100
END:STANDARD
END:VTIMEZONE
BEGIN:VEVENT
UID:6221
DTSTART;TZID=Europe/Paris:20251127T133000
DTEND;TZID=Europe/Paris:20251127T170000
DTSTAMP;TZID=Europe/Paris:20260424T132044
LOCATION:Assat
SUMMARY:Les RDV de la Tech et de l'Industrie au féminin
DESCRIPTION:En partenariat avec La French Tech Pau Béarn et l'UIMM Adour Atlantique, Venez à la découverte des métiers de l'industrie et de la Tech. 13h30 - Accueil 13h45/15h - Table ronde inspirante  Parcours et leadership : témoignages de femmes ingénieures et...
URL;VALUE=URI:https://www.ellesbougent.com/agenda/calendrier/les-rdv-de-la-tech-et-de-industrie-au-feminin-6221/
SEQUENCE:0
END:VEVENT
END:VCALENDAR
