BEGIN:VCALENDAR
METHOD:PUBLISH
VERSION:2.0
CALSCALE:GREGORIAN
BEGIN:VTIMEZONE
TZID:Europe/Paris
BEGIN:DAYLIGHT
TZOFFSETFROM:+0100
RRULE:FREQ=YEARLY;BYMONTH=3;BYDAY=-1SU
DTSTART:19810329T020000
TZNAME:UTC+2
TZOFFSETTO:+0200
END:DAYLIGHT
BEGIN:STANDARD
TZOFFSETFROM:+0200
RRULE:FREQ=YEARLY;BYMONTH=10;BYDAY=-1SU
DTSTART:19961027T030000
TZNAME:UTC+1
TZOFFSETTO:+0100
END:STANDARD
END:VTIMEZONE
BEGIN:VEVENT
UID:6445
DTSTART;TZID=Europe/Paris:20251119T093000
DTEND;TZID=Europe/Paris:20251119T120000
DTSTAMP;TZID=Europe/Paris:20260424T134034
LOCATION:Aix en Provence
SUMMARY:Les métiers des Travaux Publics au féminin : Rencontre avec les collaboratrices Vinci Construction Division Route
DESCRIPTION:Dans le cadre de la semaine de l'industrie 2025, VINCI CONSTRUCTION DIVISION ROUTE – Délégation Sud souhaite accueillir une vingtaine de jeunes filles dans ses locaux afin de leur faire découvrir la richesse de ses métiers et de promouvoir la place des femmes...
URL;VALUE=URI:https://www.ellesbougent.com/agenda/calendrier/les-metiers-des-travaux-publics-au-feminin-rencontre-avec-les-collaboratrices-vinci-construction-division-route-6445/
SEQUENCE:0
END:VEVENT
END:VCALENDAR
