BEGIN:VCALENDAR
METHOD:PUBLISH
VERSION:2.0
CALSCALE:GREGORIAN
BEGIN:VTIMEZONE
TZID:Europe/Paris
BEGIN:DAYLIGHT
TZOFFSETFROM:+0100
RRULE:FREQ=YEARLY;BYMONTH=3;BYDAY=-1SU
DTSTART:19810329T020000
TZNAME:UTC+2
TZOFFSETTO:+0200
END:DAYLIGHT
BEGIN:STANDARD
TZOFFSETFROM:+0200
RRULE:FREQ=YEARLY;BYMONTH=10;BYDAY=-1SU
DTSTART:19961027T030000
TZNAME:UTC+1
TZOFFSETTO:+0100
END:STANDARD
END:VTIMEZONE
BEGIN:VEVENT
UID:5735
DTSTART;TZID=Europe/Paris:20250424T090000
DTEND;TZID=Europe/Paris:20250424T120000
DTSTAMP;TZID=Europe/Paris:20260424T182117
LOCATION:La Montagne
SUMMARY:Les Elles de l'Océan  - Naval Goup Grand Nantes
DESCRIPTION:A l'occasion de l'événement "Les Elles de l'océan", nous vous invitons à visiter le site de Naval Group Nantes-Indret pour y découvrir nos métiers et nos activités. Nous vous présenterons les bâtiments de production et le rôle de l'entreprise dans le secteur...
URL;VALUE=URI:https://www.ellesbougent.com/agenda/calendrier/les-elles-de-ocean-naval-goup-grand-nantes-5735/
SEQUENCE:0
END:VEVENT
END:VCALENDAR
