BEGIN:VCALENDAR
METHOD:PUBLISH
VERSION:2.0
CALSCALE:GREGORIAN
BEGIN:VTIMEZONE
TZID:Europe/Paris
BEGIN:DAYLIGHT
TZOFFSETFROM:+0100
RRULE:FREQ=YEARLY;BYMONTH=3;BYDAY=-1SU
DTSTART:19810329T020000
TZNAME:UTC+2
TZOFFSETTO:+0200
END:DAYLIGHT
BEGIN:STANDARD
TZOFFSETFROM:+0200
RRULE:FREQ=YEARLY;BYMONTH=10;BYDAY=-1SU
DTSTART:19961027T030000
TZNAME:UTC+1
TZOFFSETTO:+0100
END:STANDARD
END:VTIMEZONE
BEGIN:VEVENT
UID:6319
DTSTART;TZID=Europe/Paris:20251120T133000
DTEND;TZID=Europe/Paris:20251120T164500
DTSTAMP;TZID=Europe/Paris:20260424T133720
LOCATION:MARMANDE
SUMMARY:Les coulisses de l'industrie aéronautique chez LISI
DESCRIPTION:Lisi Aerospace Carpète est un site du groupe Lisi, spécialiste mondial de la fabrication de pièces de haute précision pour l'aéronautique. Nous concevons et produisons des composants essentiels qui permettent aux avions de voler en toute sécurité. Derrière nos...
URL;VALUE=URI:https://www.ellesbougent.com/agenda/calendrier/les-coulisses-de-industrie-aeronautique-chez-lisi-6319/
SEQUENCE:0
END:VEVENT
END:VCALENDAR
