BEGIN:VCALENDAR
METHOD:PUBLISH
VERSION:2.0
CALSCALE:GREGORIAN
BEGIN:VTIMEZONE
TZID:Europe/Paris
BEGIN:DAYLIGHT
TZOFFSETFROM:+0100
RRULE:FREQ=YEARLY;BYMONTH=3;BYDAY=-1SU
DTSTART:19810329T020000
TZNAME:UTC+2
TZOFFSETTO:+0200
END:DAYLIGHT
BEGIN:STANDARD
TZOFFSETFROM:+0200
RRULE:FREQ=YEARLY;BYMONTH=10;BYDAY=-1SU
DTSTART:19961027T030000
TZNAME:UTC+1
TZOFFSETTO:+0100
END:STANDARD
END:VTIMEZONE
BEGIN:VEVENT
UID:6106
DTSTART;TZID=Europe/Paris:20251119T084500
DTEND;TZID=Europe/Paris:20251119T120000
DTSTAMP;TZID=Europe/Paris:20260424T131435
LOCATION:Nice
SUMMARY:Le Grand Transporteur !
DESCRIPTION:Prêtes à relever un défi de taille ? ✨En équipes, vous allez imaginer, construire et tester votre propre véhicule autonome 🚗💡. Votre mission : réussir à transporter un objet fragile à travers un parcours semé d'embûches… sans jamais...
URL;VALUE=URI:https://www.ellesbougent.com/agenda/calendrier/le-grand-transporteur-6106/
SEQUENCE:0
END:VEVENT
END:VCALENDAR
