BEGIN:VCALENDAR
METHOD:PUBLISH
VERSION:2.0
CALSCALE:GREGORIAN
BEGIN:VTIMEZONE
TZID:Europe/Paris
BEGIN:DAYLIGHT
TZOFFSETFROM:+0100
RRULE:FREQ=YEARLY;BYMONTH=3;BYDAY=-1SU
DTSTART:19810329T020000
TZNAME:UTC+2
TZOFFSETTO:+0200
END:DAYLIGHT
BEGIN:STANDARD
TZOFFSETFROM:+0200
RRULE:FREQ=YEARLY;BYMONTH=10;BYDAY=-1SU
DTSTART:19961027T030000
TZNAME:UTC+1
TZOFFSETTO:+0100
END:STANDARD
END:VTIMEZONE
BEGIN:VEVENT
UID:6067
DTSTART;TZID=Europe/Paris:20251121T083000
DTEND;TZID=Europe/Paris:20251121T121500
DTSTAMP;TZID=Europe/Paris:20260424T131357
LOCATION:AYTRE
SUMMARY:Le ferroviaire aux féminins
DESCRIPTION:L'entreprise ALSTOM ouvre ses portes aux jeunes filles pour découvrir les métiers du ferroviaire et les chaines de production des Tramways et des Trains à Grande Vitesse. Ce sera l'occasion de rencontrer des femmes et des hommes pour échanger avec eux sur les...
URL;VALUE=URI:https://www.ellesbougent.com/agenda/calendrier/le-ferroviaire-aux-feminins-6067/
SEQUENCE:0
END:VEVENT
END:VCALENDAR
