BEGIN:VCALENDAR
METHOD:PUBLISH
VERSION:2.0
CALSCALE:GREGORIAN
BEGIN:VTIMEZONE
TZID:Europe/Paris
BEGIN:DAYLIGHT
TZOFFSETFROM:+0100
RRULE:FREQ=YEARLY;BYMONTH=3;BYDAY=-1SU
DTSTART:19810329T020000
TZNAME:UTC+2
TZOFFSETTO:+0200
END:DAYLIGHT
BEGIN:STANDARD
TZOFFSETFROM:+0200
RRULE:FREQ=YEARLY;BYMONTH=10;BYDAY=-1SU
DTSTART:19961027T030000
TZNAME:UTC+1
TZOFFSETTO:+0100
END:STANDARD
END:VTIMEZONE
BEGIN:VEVENT
UID:6414
DTSTART;TZID=Europe/Paris:20251118T090000
DTEND;TZID=Europe/Paris:20251118T170000
DTSTAMP;TZID=Europe/Paris:20260424T131214
LOCATION:Saint Quentin Fallavier
SUMMARY:La semaine de l'industrie
DESCRIPTION:En lien avec la semaine de l'industrie et l'association elles bougent nous organisons un événement sur le site de Sferaco le 18/11 à destination de lycéenne de préférence. Le but de cet évènement ; nous allons recevoir +/- 14 jeunes filles du Lycée...
URL;VALUE=URI:https://www.ellesbougent.com/agenda/calendrier/la-semaine-de-industrie-6414/
SEQUENCE:0
END:VEVENT
END:VCALENDAR
