BEGIN:VCALENDAR
METHOD:PUBLISH
VERSION:2.0
CALSCALE:GREGORIAN
BEGIN:VTIMEZONE
TZID:Europe/Paris
BEGIN:DAYLIGHT
TZOFFSETFROM:+0100
RRULE:FREQ=YEARLY;BYMONTH=3;BYDAY=-1SU
DTSTART:19810329T020000
TZNAME:UTC+2
TZOFFSETTO:+0200
END:DAYLIGHT
BEGIN:STANDARD
TZOFFSETFROM:+0200
RRULE:FREQ=YEARLY;BYMONTH=10;BYDAY=-1SU
DTSTART:19961027T030000
TZNAME:UTC+1
TZOFFSETTO:+0100
END:STANDARD
END:VTIMEZONE
BEGIN:VEVENT
UID:4402
DTSTART;TZID=Europe/Paris:20240305T093000
DTEND;TZID=Europe/Paris:20240305T163000
DTSTAMP;TZID=Europe/Paris:20260423T201628
LOCATION:Palaiseau
SUMMARY:La mixité à la R&D d'EDF
DESCRIPTION:La R&amp;D d'EDF vous propose de venir échanger autour de la mixité sur son site d'EDF Lab Paris Saclay le 05 Mars de 09h30 à 16h30. Ca sera l'occasion de rencontrer des chercheuses, techniciennes, manageuses, cheffes de projet travaillant au sein de nos entités...
URL;VALUE=URI:https://www.ellesbougent.com/agenda/calendrier/la-mixite-a-la-r-d-edf-4402/
SEQUENCE:0
END:VEVENT
END:VCALENDAR
