BEGIN:VCALENDAR
METHOD:PUBLISH
VERSION:2.0
CALSCALE:GREGORIAN
BEGIN:VTIMEZONE
TZID:Europe/Paris
BEGIN:DAYLIGHT
TZOFFSETFROM:+0100
RRULE:FREQ=YEARLY;BYMONTH=3;BYDAY=-1SU
DTSTART:19810329T020000
TZNAME:UTC+2
TZOFFSETTO:+0200
END:DAYLIGHT
BEGIN:STANDARD
TZOFFSETFROM:+0200
RRULE:FREQ=YEARLY;BYMONTH=10;BYDAY=-1SU
DTSTART:19961027T030000
TZNAME:UTC+1
TZOFFSETTO:+0100
END:STANDARD
END:VTIMEZONE
BEGIN:VEVENT
UID:6889
DTSTART;TZID=Europe/Paris:20260214T100000
DTEND;TZID=Europe/Paris:20260214T170000
DTSTAMP;TZID=Europe/Paris:20260420T103040
LOCATION:ISEP -Issy-les-Moulineaux
SUMMARY:Journée Portes Ouvertes ISEP
DESCRIPTION:Venez vivre l'expérience Isep lors de nos Journées Portes Ouvertes à Paris Que vous envisagiez une formation d'ingénieur en informatique, en intelligence artificielle, en cybersécurité ou dans tout autre domaine du numérique, les JPO de l'Isep sont l'occasion...
URL;VALUE=URI:https://www.ellesbougent.com/agenda/calendrier/journee-portes-ouvertes-isep-6889/
SEQUENCE:0
END:VEVENT
END:VCALENDAR
