BEGIN:VCALENDAR
METHOD:PUBLISH
VERSION:2.0
CALSCALE:GREGORIAN
BEGIN:VTIMEZONE
TZID:Europe/Paris
BEGIN:DAYLIGHT
TZOFFSETFROM:+0100
RRULE:FREQ=YEARLY;BYMONTH=3;BYDAY=-1SU
DTSTART:19810329T020000
TZNAME:UTC+2
TZOFFSETTO:+0200
END:DAYLIGHT
BEGIN:STANDARD
TZOFFSETFROM:+0200
RRULE:FREQ=YEARLY;BYMONTH=10;BYDAY=-1SU
DTSTART:19961027T030000
TZNAME:UTC+1
TZOFFSETTO:+0100
END:STANDARD
END:VTIMEZONE
BEGIN:VEVENT
UID:3091
DTSTART;TZID=Europe/Paris:20221210T100000
DTEND;TZID=Europe/Paris:20221210T180000
DTSTAMP;TZID=Europe/Paris:20260420T103148
LOCATION:Paris
SUMMARY:Journée Portes Ouvertes ISEP
DESCRIPTION:L'Isep ouvre ses portes samedi 10 décembre 2022 de 10h à 18h ! C'est l'occasion de visiter notre campus situé au cœur de Paris ! Lors de cette JPO, les équipes pédagogiques, étudiants et associations vous accueilleront pour vous faire découvrir...
URL;VALUE=URI:https://www.ellesbougent.com/agenda/calendrier/journee-portes-ouvertes-isep-3091/
SEQUENCE:0
END:VEVENT
END:VCALENDAR
