BEGIN:VCALENDAR
METHOD:PUBLISH
VERSION:2.0
CALSCALE:GREGORIAN
BEGIN:VTIMEZONE
TZID:Europe/Paris
BEGIN:DAYLIGHT
TZOFFSETFROM:+0100
RRULE:FREQ=YEARLY;BYMONTH=3;BYDAY=-1SU
DTSTART:19810329T020000
TZNAME:UTC+2
TZOFFSETTO:+0200
END:DAYLIGHT
BEGIN:STANDARD
TZOFFSETFROM:+0200
RRULE:FREQ=YEARLY;BYMONTH=10;BYDAY=-1SU
DTSTART:19961027T030000
TZNAME:UTC+1
TZOFFSETTO:+0100
END:STANDARD
END:VTIMEZONE
BEGIN:VEVENT
UID:7623
DTSTART;TZID=Europe/Paris:20260309T100000
DTEND;TZID=Europe/Paris:20260309T120000
DTSTAMP;TZID=Europe/Paris:20260419T151716
LOCATION:Lycée professionnel Condorcet
SUMMARY:Journée égalité femmes-hommes
DESCRIPTION:Présence possible de 10h à midi OU de 14h à 16h Nous organisons prochainement une journée dédiée à l'égalité entre les femmes et les hommes, à destination des élèves, avec l'envie de proposer un moment à la fois engagé, vivant et participatif. Dans ce...
URL;VALUE=URI:https://www.ellesbougent.com/agenda/calendrier/journee-egalite-femmes-hommes-7623/
SEQUENCE:0
END:VEVENT
END:VCALENDAR
