BEGIN:VCALENDAR
METHOD:PUBLISH
VERSION:2.0
CALSCALE:GREGORIAN
BEGIN:VTIMEZONE
TZID:Europe/Paris
BEGIN:DAYLIGHT
TZOFFSETFROM:+0100
RRULE:FREQ=YEARLY;BYMONTH=3;BYDAY=-1SU
DTSTART:19810329T020000
TZNAME:UTC+2
TZOFFSETTO:+0200
END:DAYLIGHT
BEGIN:STANDARD
TZOFFSETFROM:+0200
RRULE:FREQ=YEARLY;BYMONTH=10;BYDAY=-1SU
DTSTART:19961027T030000
TZNAME:UTC+1
TZOFFSETTO:+0100
END:STANDARD
END:VTIMEZONE
BEGIN:VEVENT
UID:6337
DTSTART;TZID=Europe/Paris:20251118T090000
DTEND;TZID=Europe/Paris:20251118T133000
DTSTAMP;TZID=Europe/Paris:20260424T131214
LOCATION:Montpellier
SUMMARY:Jeu sur la décarbonation
DESCRIPTION:Envie de relever le défi de la décarbonation ? À l'occasion de la Semaine de l'industrie, plongez dans l'univers de SLB à travers un grand jeu de plateau inédit, conçu par l'un de nos collaborateurs.En équipe, relevez des défis, explorez les enjeux de la...
URL;VALUE=URI:https://www.ellesbougent.com/agenda/calendrier/jeu-sur-la-decarbonation-6337/
SEQUENCE:0
END:VEVENT
END:VCALENDAR
